BEGIN:VCALENDAR
VERSION:2.0
PRODID:-//hacksw/handcal//NONSGML v1.0//EN
CALSCALE:GREGORIAN
BEGIN:VEVENT
DTEND:20240421T180000
UID:69e83fb478e88
DTSTAMP:20260422T052540
LOCATION:Burgallee 1\, 53840 Troisdorf
DESCRIPTION:Sabine Wilharm ist die Illustratorin, die dem berühmten Harry Potter ein deutsches Gesicht und der lebhaften Ella aus der Hanser-Reihe eine Gestalt verlieh. Und doch: Rückblickend bildeten diese nach wie vor sehr bekannten Publikationen nur einige wenige Stationen im künstlerischen Werdegang der Künstlerin. So illustrierte sie äußerst erfolgreich berühmte Klassiker wie Goethes Zauberlehrling oder Erlkönig. Darüber hinaus zählen Gedichtbände von Autoren wie Theodor Fontane oder James Krüss ebenso zu ihrem Schaffenswerk wie Anthologien von Uwe-Michael Gutzschhahn und Susan Kreller.\n\nObwohl sie beeindruckende, immer skurrile und häufig ironisierende Bilder für Erwachsenenbücher und -magazine schuf, gestaltete sie den größten Teil ihrer Illustrationen für Texte zu Kinder- und Jugendbüchern. So nahmen Titel wie Die Krähen von Pearblossom, Ein Huhn, ein Ei und viel Geschrei oder Zum Strand! auf eine typisch Wilharmsche Weise bildnerische Gestalt an: oftmals verspielt, mit stets zwinkernd humorvollem Blick, voller Dynamik und großartigem Einfallsreichtum. In nur einigen wenigen Bilderbüchern wie in Helden oder Kann ich wohl! verfasste die Künstlerin die Geschichten selbst und erweiterte somit ihr kreatives Schaffen – auch auf den Text.\n\nSabine Wilharm wurde 1954 in Hamburg geboren und arbeitet seit den 1970er Jahren freiberuflich für Kinderbuchverlage, zeitweise intensiv für Zeitschriften, viel zu selten für Erwachsenenliteratur. Ihren Abschluss in Illustration machte sie an der Fachhochschule in Hamburg (heute HAW, FB Design), wo sie bis 2009 auch unregelmäßig Lehraufträge für Illustration und Zeichnen gab. Im Studium begegnete sie Wilhelm Martin Busch, einem Zeichner par excellence und für sie ein Glücksfall als Lehrer, dessen Liebe zum Zeichnen ihr die Tür zur eigenen Arbeit öffnete.\n\nDer immensen Fülle und Spannbreite des Schaffens von Sabine Wilharm Rechnung zu tragen, ist Aufgabe dieser Ausstellung.
URL;VALUE=URI:
SUMMARY:Sabine Wilharm. Illustrationen
DTSTART:20231105T080000
END:VEVENT
END:VCALENDAR