BEGIN:VCALENDAR
VERSION:2.0
PRODID:-//hacksw/handcal//NONSGML v1.0//EN
CALSCALE:GREGORIAN
BEGIN:VEVENT
DTEND:20240114T180000
UID:69ea80e1a0c83
DTSTAMP:20260423T222817
LOCATION:Ständehausstraße 1\, 40217 Düsseldorf
DESCRIPTION:Die erste Überblickausstellung des britischen Künstlers und Filmemachers Isaac Julien (*1960 in London) in Deutschland zeigt die Bandbreite eines bahnbrechenden Werks von seiner Entstehung in den 1980er Jahren bis in die Gegenwart. Juliens kritisches Denken, das vor allem auf eine intensive Auseinandersetzung mit der Kultur und Geschichte des Kolonialismus abzielt, kommt in seinen frühen Filmen ebenso zum Ausdruck wie in den hochästhetischen Filmbildern der großen, international gefeierten Filminstallationen der letzten 20 Jahre.
URL;VALUE=URI:
SUMMARY:Isaac Julien. What Freedom Is To Me
DTSTART:20230923T080000
END:VEVENT
END:VCALENDAR