BEGIN:VCALENDAR
VERSION:2.0
PRODID:-//hacksw/handcal//NONSGML v1.0//EN
CALSCALE:GREGORIAN
BEGIN:VEVENT
DTEND:20240118T180000
UID:69e78b325361c
DTSTAMP:20260421T163530
LOCATION:Heinrich-Böll-Platz\, 50667 Köln
DESCRIPTION:Fü­sun Onur, 1937 in Is­tan­bul ge­boren, ist eine der be­deu­tend­sten Kün­stler*in­nen der Türkei. Sie hat ein beein­druck­en­des und viel­seitiges Werk geschaf­fen, das sich den üblichen Kat­e­gorisierun­gen entzie­ht. In frühen Jahren machte sie mit ihren präzisen Erkun­dun­gen von Fläche und Raum sowie deren sou­verän­er Um­set­zung in Skulp­turen auf sich aufmerk­sam. Diese for­male An­näherung war aber nur eine von vielen Herange­hen­sweisen. Seit An­fang der 70er Jahre kom­biniert sie sie mit All­t­ag­sob­jek­ten und sinn­lichen Ma­te­rialien in großen In­s­tal­la­tio­nen: frag­ile Ob­jekte und Rau­min­sze­nierun­gen, ge­baut aus Glasscheiben, Holzteilen, Klei­dungsstück­en, Wollfä­den, Stühlen, Kis­ten, Bällen. Ein nar­ra­tiv­er Im­puls kommt hinzu, der ihrem Werk bis heute eine po­etische Tiefe ver­lei­ht. Die Ak­tu­al­ität ihr­er Ar­beit­en liegt in den vielfälti­gen Ver­fahren, mit de­nen sie ihre kün­st­lerischen Frages­tel­lun­gen ver­fol­gt und zu im­mer neuen Lö­sun­gen fin­d­et.\n\nDie Auss­tel­lung ent­ste­ht in Zusam­me­nar­beit mit Arter, Is­tan­bul.
URL;VALUE=URI:
SUMMARY:Füsun Onur. Retrospektive
DTSTART:20230916T080000
END:VEVENT
END:VCALENDAR