BEGIN:VCALENDAR
VERSION:2.0
PRODID:-//hacksw/handcal//NONSGML v1.0//EN
CALSCALE:GREGORIAN
BEGIN:VEVENT
DTEND:20230407T180000
UID:69ebada5dd5db
DTSTAMP:20260424T195133
LOCATION:Talstraße 300\, 40822 Mettmann
DESCRIPTION:Mit dem Hund in die Dauerausstellung. Kosten: 2 € je Hund zzgl. Eintritt für den Halter
URL;VALUE=URI:
SUMMARY:Doggy Day
DTSTART:20230407T140000
END:VEVENT
END:VCALENDAR