BEGIN:VCALENDAR
VERSION:2.0
PRODID:-//hacksw/handcal//NONSGML v1.0//EN
CALSCALE:GREGORIAN
BEGIN:VEVENT
DTEND:20230329T150000
UID:69ece4ab1f8ec
DTSTAMP:20260425T175835
LOCATION:Hauptstr. 83 / Ecke Freiherr-vom-Stein-Straße\, 40764 Langenfeld
DESCRIPTION:Nach einer Führung durch die Ausstellung sind die Teilnehmenden eingeladen, sich in lockerer Atmosphäre bei Kaffee und Kuchen über das Gesehene auszutauschen. 
URL;VALUE=URI:
SUMMARY:Kunst & Kuchen 
DTSTART:20230329T140000
END:VEVENT
END:VCALENDAR