BEGIN:VCALENDAR
VERSION:2.0
PRODID:-//hacksw/handcal//NONSGML v1.0//EN
CALSCALE:GREGORIAN
BEGIN:VEVENT
DTEND:20230720T180000
UID:69e969c4ad558
DTSTAMP:20260423T023724
LOCATION:Grabenstr. 21\, 40878 Ratingen
DESCRIPTION:Mit Jan Stieding, Jg. 1966, folgt eine weitere malerische Position. Diese Einzelausstellung des ebenfalls in Düsseldorf lebenden, gegenständlichen Malers findet im Obergeschoss des Museums statt. Durch die zeitliche Überschneidung mit Jan Kolatas Ausstellung können zwei unterschiedliche Positionen aktueller Malerei in Gegenüberstellung betrachtet werden.\nJan Stieding begann 1991 sein Studium an der Hochschule für Bildende Künste in Dresden und wechselte dann an die Kunstakademie Düsseldorf, wo er Meisterschüler von Jörg Immendorff und später nach seinem Abschluss 1998 auch dessen Assistent wurde.\nUnter dem Titel „Draußen“ zeigt Jan Stieding eine Auswahl seiner Arbeiten von 1995 bis heute. Der Ausstellungstitel ist dabei programmatische Klammer und spielt mit der Doppelbedeutung des Wortes. „Draußen“ als Ort in der Natur, des Unterwegsseins oder auch jenseits geschlossener Räume oder Gesellschaftssysteme. \nJan Stieding greift in der malerischen Umsetzung, die sich frei an der Grenzlinie zwischen figurativer Darstellung und Abstraktion (Unschärfe, Verwischung) bewegt, den Zeitgeist auf. Die aktuelle Werkserie Birken begann er im Lockdown des Jahres 2021. Sie besteht aus fortlaufenden kleinformatigen Gemälden, die der Künstler draußen in der freien Natur malt. Stetig wiederkehrendes Motiv ist der Birkenstamm. Hiervon ausgehend entstehen im Atelier groß- und mittelformatige Bilder. Weiße Birkenstämme leuchten vor weißem Farbraum, mal in der Gestik der Äste, mal in ihren typischen Kontrasten, doch stets als lebendige Wesen. Wie Tagebuchnotizen geben sie eine subjektive Sichtweise auf eine Zeit im Ruhezustand wieder, die den konzentrierten Blick auf die umgebende Natur und das Private einfordert.\n
URL;VALUE=URI:
SUMMARY:Jan Stieding. Draußen
DTSTART:20230331T080000
END:VEVENT
END:VCALENDAR