BEGIN:VCALENDAR
VERSION:2.0
PRODID:-//hacksw/handcal//NONSGML v1.0//EN
CALSCALE:GREGORIAN
BEGIN:VEVENT
DTEND:20230507T180000
UID:69ec2b3791b6f
DTSTAMP:20260425T044719
LOCATION:Ehrenhof 4-5\, 40479 Düsseldorf
DESCRIPTION:Erstmals widmet sich in Deutschland eine Ausstellung einer der größten Revolutionen in der Kunst des 19. Jahrhunderts: der Ölstudie. Ab 1820 malten viele Künstler direkt im Freien in Öl und schufen Naturstudien von beachtlicher Unmittelbarkeit. Für die wichtigsten Vertreter der Düsseldorfer Malerschule aber auch für Caspar David Friedrich und Camille Corot war dabei immer wieder das sich wandelnde Licht die zentrale Inspirationsquelle. Gezeigt werden 170 Exponate von 75 Künstler*innen, darunter zahlreiche noch nie öffentlich gezeigte Werke aus musealen und privaten europäischen Sammlungen.
URL;VALUE=URI:
SUMMARY:Mehr Licht. Die Befreiung der Natur 
DTSTART:20230208T080000
END:VEVENT
END:VCALENDAR