BEGIN:VCALENDAR
VERSION:2.0
PRODID:-//hacksw/handcal//NONSGML v1.0//EN
CALSCALE:GREGORIAN
BEGIN:VEVENT
DTEND:20230416T180000
UID:69ed2acaea507
DTSTAMP:20260425T225746
LOCATION:Kellerstr. 16\, 53639 Königswinter
DESCRIPTION:
URL;VALUE=URI:
SUMMARY:Illusionen – Die Welt der Dioramen 
DTSTART:20221118T080000
END:VEVENT
END:VCALENDAR