BEGIN:VCALENDAR
VERSION:2.0
PRODID:-//hacksw/handcal//NONSGML v1.0//EN
CALSCALE:GREGORIAN
BEGIN:VEVENT
DTEND:20230401T180000
UID:69e50c5e7e2bb
DTSTAMP:20260419T190950
LOCATION:Kaiserswerther Str. 380\, 40474 Düsseldorf
DESCRIPTION:Es ist eines jener Themen, das die Gemüter seit Jahren erhitzt: das Geschlecht. Seit 2018 ist "divers" neben der männlichen und weiblichen eine dritte nach dem deutschen Recht anerkannte Geschlechtsoption. Doch noch immer stehen für viele Menschen offene Fragen im Raum: Gibt es wirklich mehr als zwei Geschlechter? Was ist dran am "dritten Geschlecht"? Was ist "normal"? Was ist "natürlich"? Die Sonderausstellung lenkt den Blick auf unsere nächsten Verwandten, also andere Tiere. Bei ihnen gibt es wahrlich alles: spontaner Geschlechterwechsel, kinderkriegende Männchen, angeborene Zweigeschlechtlichkeit, ja sogar halbseitig männliche und halbseitig weibliche Individuen und auch Weibchen, die gleich ganz ohne Partner auskommen. Die Ausstellung zeigt, wie sich Geschlechter bei Tieren unterscheiden und erklärt, warum es sie gibt und wie sie sich entwickeln.
URL;VALUE=URI:
SUMMARY:Sex and Gender: Diverse Geschichten aus der Natur
DTSTART:20221029T080000
END:VEVENT
END:VCALENDAR