BEGIN:VCALENDAR
VERSION:2.0
PRODID:-//hacksw/handcal//NONSGML v1.0//EN
CALSCALE:GREGORIAN
BEGIN:VEVENT
DTEND:20251008T203000
UID:69e7436a073e0
DTSTAMP:20260421T112914
LOCATION:Helmut-Kohl-Allee 4\, 53113 Bonn
DESCRIPTION:Der Bausektor ist ein Hauptverursacher des Klimawandels – und hat 2024 erneut seine Klimaziele verfehlt. Während die Politik über Aufweichungen diskutiert, nehmen Extremwetter und Schäden zu. \n\nDie Ausstellung WEtransFORM. Zur Zukunft des Bauens zeigt, was nachhaltiges Bauen leisten kann. Doch wie bringen wir die Bauwende voran? \n\nGemeinsam mit Expert*innen diskutieren wir über klimapositive Städte und zukunftsfähige Stadtentwicklung.\n\nMit: \nBarbara Metz Bundesgeschäftsführerin der Deutschen Umwelthilfe e.V. \nAlexander Poetzsch Architekt, Bund Deutscher Architektinnen und Architekten\nCornelia Rösler Deutsches Institut für Urbanistik und Deutscher Städtetag \n\nModeration: Sven Sappelt, Studio Bonn \n
URL;VALUE=URI:
SUMMARY:Bauwende-Turbo. Für eine klimapositive Architektur und Stadtentwicklungspolitik
DTSTART:20251008T190000
END:VEVENT
END:VCALENDAR