BEGIN:VCALENDAR
VERSION:2.0
PRODID:-//hacksw/handcal//NONSGML v1.0//EN
CALSCALE:GREGORIAN
BEGIN:VEVENT
DTEND:20250427T180000
UID:69e99b2d43ce7
DTSTAMP:20260423T060813
LOCATION:Colmantstraße 14 - 16\, 53115 Bonn
DESCRIPTION:Pünktlich zu Beginn der Herbstferien zeigt das LVR-LandesMuseum Bonn ab dem 12. Oktober 2024 die große Mitmachausstellung „MUSIC! Feel the Beat“ (bis zum 27. April 2025). Die Schau rückt das Erleben von Musik in den Mittelpunkt und zeigt, wie Musik unsere Körper und Emotionen beeinflusst.\n\nIn zwölf Pavillons mit interaktiven Mitmachstationen erleben Besucherinnen und Besucher Musik spielerisch und mit dem ganzen Körper. Was passiert, wenn uns ein Rhythmus erfasst? Was verbindet mittelalterliche Tänze mit heutigem Hip-Hop? Wie wirkt sich Musik auf unser Gehirn aus? Wie fühlt es sich an, Teil eines Orchesters zu sein? Diese und viele weitere Fragen laden zum Entdecken und Experimentieren ein. Neben Hör- und Tanzstationen veranschaulichen historische Exponate wie Grammophon, Radio und MP3-Player die rasante Entwicklung der Musiktechnologie. Instrumente aus verschiedenen Zeiten und Kulturen, darunter eine keltische Kriegstrompete, gewähren vielfältige Einblicke in die faszinierende Welt der Musik.\n
URL;VALUE=URI:
SUMMARY:MUSIC! Feel the Beat 
DTSTART:20241012T080000
END:VEVENT
END:VCALENDAR