BEGIN:VCALENDAR
VERSION:2.0
PRODID:-//hacksw/handcal//NONSGML v1.0//EN
CALSCALE:GREGORIAN
BEGIN:VEVENT
DTEND:20241117T180000
UID:69e81e5b84d34
DTSTAMP:20260422T030323
LOCATION:Kellerstr. 16\, 53639 Königswinter
DESCRIPTION:Weinbau und Landschaft Über Jahrhunderte prägte der Weinbau die Landschaft des Siebengebirges. Besonders markant waren die terrassierten Weinberge an den nach Südwesten ausgerichteten Hängen. Auch andere landwirtschaftliche Nutzungen standen mit dem Weinbau in Zusammenhang. Dazu gehörte beispielsweise eine ganz spezifische Waldwirtschaftsform, die als »Rahmbusch« in Resten noch heute sichtbar ist. Diese regional verbreitete Form des Niederwalds lieferte insbesondere Weinbergspfähle und fand sich überwiegend in den nordostexponierten Lagen. In den Höhenlagen bestimmten ausgedehnte Heideflächen das Landschaftsbild, in denen Futter für das Vieh gewonnen wurde. Erst die zahlreichen Betriebsaufgaben und die Flurbereinigungen im 20.  Jahrhundert führten zur entscheidenden Veränderung der historischen Weinbaulandschaft.
URL;VALUE=URI:
SUMMARY:Zwischen Wingert und Busch Historische. Landnutzungen rund um den Weinbau
DTSTART:20240508T080000
END:VEVENT
END:VCALENDAR