BEGIN:VCALENDAR
VERSION:2.0
PRODID:-//hacksw/handcal//NONSGML v1.0//EN
CALSCALE:GREGORIAN
BEGIN:VEVENT
DTEND:20240317T180000
UID:69e7407246afb
DTSTAMP:20260421T111634
LOCATION:Martinikirchgang 2\, 46446 Emmerich am Rhein
DESCRIPTION:Sonja Maria Huber über sich und ihre Werke:\nMeine Arbeiten wirken oft sehr direkt, sie sind jedoch ausgesprochen ehrlich, mir selbst und den Betrachtern gegenüber.\n\nIhre Wurzeln hat meine Kunst vor allem in meiner Gefühlswelt. Diese erforsche ich im kreativen Prozess mit verschiedenen Materialien und Techniken. Ich bin immer auf der Suche nach einem neuen Weg, um das auszudrücken, was ich in mir und in meiner Umgebung beobachte. \n\nDiese Beziehung zwischen dem inneren Selbst und der äußeren Welt übertrage ich auf die vielen Gesichter, die ich zeichne und male. Einige davon sind Selbstporträts, andere wiederum fiktive Gesichter, die einen bestimmten emotionalen, körperlichen und geistigen Zustand darstellen sollen. \n\nIch sehe meine Arbeit als einen Wegweiser durch meine Lebensreise.\n\nhttps://www.soniinurzubesuch-art.de\n
URL;VALUE=URI:
SUMMARY:"BLiCK" von Sonja Maria Huber 
DTSTART:20240218T080000
END:VEVENT
END:VCALENDAR