BEGIN:VCALENDAR
VERSION:2.0
PRODID:-//hacksw/handcal//NONSGML v1.0//EN
CALSCALE:GREGORIAN
BEGIN:VEVENT
DTEND:20240901T180000
UID:69e82ace1916f
DTSTAMP:20260422T035630
LOCATION:Museumsplatz 1\, 45128 Essen
DESCRIPTION:Wolf D. Harhammers (*1941) Welt ist die des Jahrmarkts. Das Werk des Stuttgarter Fotografen galt lange Zeit als vergessen. Auf den Cannstatter Wasen und anderen regionalen Festen foto-grafierte er Mitte der 1970er Jahre das Leben von Artist:innen, Akrobat:innen, Tierpfleger:innen, Clowns und anderen, die im Mikrokosmos Zirkus ihren Platz gesucht hatten.
URL;VALUE=URI:
SUMMARY:WOLF D. HARHAMMER. Zwei Wirklichkeiten
DTSTART:20240209T080000
END:VEVENT
END:VCALENDAR