BEGIN:VCALENDAR
VERSION:2.0
PRODID:-//hacksw/handcal//NONSGML v1.0//EN
CALSCALE:GREGORIAN
BEGIN:VEVENT
DTEND:20231014T210000
UID:69e9281564230
DTSTAMP:20260422T215709
LOCATION:Helmut-Kohl-Allee 4\, 53113 Bonn
DESCRIPTION:MODERIERT VON PETER ILLMANN\nDie 80er-Jahre lieferten den Soundtrack zur Postmoderne. Ob Depeche Mode, Duran Duran oder a-ha – in der golden Ära der Videoclips entstanden bahnbrechende Musikvideos, die musikalisch, visuell und ästhetisch neue Maßstäbe setzten. \nPeter Illmann, damals Moderator der legendären Musiksendung Formel Eins, präsentiert an diesem Abend live die besten Songs und Anekdoten aus dieser aufregenden Zeit, während VJ Dirk Duske die restaurierten Clips live mixt und auf eine imposante XXL-Leinwand beamt.\nErleben Sie die ikonischen Tanzmoves von Michael Jackson in seinem bahnbrechenden Musikvideo Thriller oder die rebellische Energie von Madonna in Like a Virgin auf großer Leinwand. Lassen Sie sich von den extravaganten Kostümen, den innovativen visuellen Effekten und der kreativen Inszenierung dieser Videoclips begeistern, und tanzen Sie zu allen großen 80er-Hits durch die Nacht!\n\nVorverkauf möglich. Info z.B. im Museum.
URL;VALUE=URI:
SUMMARY:80ER-LIVE! VIDEOCLIP-DISCO MIT VJ DIRK DUSKE
DTSTART:20231014T200000
END:VEVENT
END:VCALENDAR