BEGIN:VCALENDAR
VERSION:2.0
PRODID:-//hacksw/handcal//NONSGML v1.0//EN
CALSCALE:GREGORIAN
BEGIN:VEVENT
DTEND:20230205T153000
UID:69e7068b8f86d
DTSTAMP:20260421T070931
LOCATION:Hochstr. 21\, 52525 Heinsberg
DESCRIPTION:Die nächste öffentliche Führung im Heinsberger Museum BEGAS HAUS ist am 5. Februar 2023 um 14.30 Uhr. Die Interessierten treffen sich an der Museumskasse.\nIm Anschluss ist noch genug Zeit, das Museum weiter zu besichtigen und die neu gewonnenen Einblicke zu verarbeiten - das Museum ist bis 17 Uhr geöffnet. \nDie Führung kostet nur drei Euro zusätzlich zum normalen Eintritt. Eine vorherige Anmeldung ist nicht nötig.\n
URL;VALUE=URI:
SUMMARY:Museumsführung im BEGAS HAUS 
DTSTART:20230205T143000
END:VEVENT
END:VCALENDAR