BEGIN:VCALENDAR
VERSION:2.0
PRODID:-//hacksw/handcal//NONSGML v1.0//EN
CALSCALE:GREGORIAN
BEGIN:VEVENT
DTEND:20230212T180000
UID:69e4eeaab3b66
DTSTAMP:20260419T170306
LOCATION:Minoritenstrasse 13\, 50667 Köln
DESCRIPTION:„Hey Kölle, Du bes e Jeföhl“ – „Dat Hätz vun der Welt“ – „Echte Fründe“: Kaum eine andere Band hat die Kölner Karnevalsmusik so geprägt wie die Höhner. Sie gehören heute zu Köln wie der Dom und das Kölsch – und das in wechselnder Besetzung seit mittlerweile fünfzig Jahren! Es wird daher höchste Zeit, dieser Ausnahmeband eine eigenen Ausstellung zu widmen. Denn: „Wenn nicht jetzt, wann dann?“\n\n1972 sorgte die Kultband unter dem Namen „Ne Höhnerhoff“ erstmals für Stimmung auf den Bühnen und in den Sitzungssälen – damals noch als federwerfedes Quartett im Hühneroutfit. Heute sind sie deutschlandweit bekannt und spätestens seit „Viva Colonia“ internationaler Botschafter kölschen Lebensgefühls. Ihre Mitsing-Hymnen stecken voller Heimatgefühl, Lebenslust und der Liebe zum Fastelovend und Sport.\n\nDabei beweisen die Höhner immer wieder aufs Neue, dass sie musikalisch nicht nur im Karneval zu Hause, sondern echte Allroundtalente sind: beispielsweise mit ihrer legendären „Komzert“-Reihe im Kölner Millowitsch-Theater, in der Zirkusmanege der „Höhner Rockin‘ Roncalli Show“ oder mit ihren „Höhner Classic“-Abenden in der Philharmonie.\n\nDie Jubiläumsausstellung im Maritim Hotel Köln nimmt die Besucher*innen mit auf eine außergewöhnliche Zeitreise – mit einzigartigen Exponaten aus dem Privatbesitz der Bandmitglieder und deren persönlichen Erinnerungen. Der Eintritt ist frei.\nSeit Jahren nutzen die Höhner zudem ihre Popularität, um gegen gesellschaftliche und soziale Missstände anzugehen. Das Engagement bei der „AG Arsch huh“, der tatkräftige Einsatz für das „LObby-REstaurant“ des Kölner Arbeitslosenzentrums und viele weitere Projekte sind Höhner-Herzensangelegenheiten.\n\nParallel zur Jubiläumsschau organisieren die Höhner im Maritim Hotel Köln das HÖHNER-Soundstudio. Hier kann jeder unter fachlicher Anleitung und mit professionellen Mitteln sein Höhner-Lieblingslied aufnehmen (24,90 Euro, Mo.-Sa., 16 bis 21 Uhr, alle weiteren Informationen auf hoehner.com).\n\nUnd auch beim Begleitprogramm mischen die Höhner kräftig mit!\n
URL;VALUE=URI:
SUMMARY:50 Jahre Höhner
DTSTART:20220831T080000
END:VEVENT
END:VCALENDAR