BEGIN:VCALENDAR
VERSION:2.0
PRODID:-//hacksw/handcal//NONSGML v1.0//EN
CALSCALE:GREGORIAN
BEGIN:VEVENT
DTEND:20230326T180000
UID:69e6849cb8a7a
DTSTAMP:20260420T215508
LOCATION:Joseph-Beuys-Platz 1\, 47798 Krefeld
DESCRIPTION:Die Kunstmuseen Krefeld widmen dem unsichtbaren Material Sound in der Kunst der 1950er bis 1970er Jahre eine Ausstellung unter dem Titel On Air. In dieser experimentierfreudigen Zeit werden Grenzen in der Kunst gesprengt und Werkstoffe von Künstler*innen verarbeitet, die bislang im Kunstkontext keine Rolle spielten. Auch Klänge, Töne, Geräusche, Signale und Stimmen werden zum 'handfesten' bildhauerischen Material. Das Hören bereichert nun die sinnliche Wahrnehmung. Ausgehend von der Maschinenplastik, fließt der Sound in Gattungen wie Performance, Installation und Neue Medien ein, die gerade erst Gestalt annehmen. Im Fokus stehen Soundobjekte von Künstler wie Yaakov Agam, Joseph Beuys, Hermann Goepfert, Jannis Kounellis, Bruce Nauman, Robert Rauschenberg, Jean Tinguely, David Tudor, Timm Ulrichs und andere. Begleitend erscheint ein Katalog (Dt./Engl.).
URL;VALUE=URI:
SUMMARY:ON AIR - Der Klang des Materials in der Kunst der 1950er bis 1970er Jahre
DTSTART:20221125T080000
END:VEVENT
END:VCALENDAR