BEGIN:VCALENDAR
VERSION:2.0
PRODID:-//hacksw/handcal//NONSGML v1.0//EN
CALSCALE:GREGORIAN
BEGIN:VEVENT
DTEND:20220703T180000
UID:69e75fea2c34e
DTSTAMP:20260421T133050
LOCATION:Markt 46\, 53721 Siegburg
DESCRIPTION:Seit 25 Jahren häkelt Katharina Krenkel Skulpturen, immer auf der Suche nach Gegensätzen und ihrer Relativität.\n\nSie erschafft Ornamentbänder in allen erdenklichen Größen, klein und filigran sowie überdimensioniert und brachial. Der Betrachter weiß nicht, ob er eine Bakterie inmitten eines riesigen Organismus ist oder ein höheres Wesen, das aus der weiten Ferne auf die Schöpfung herabschaut. Bei der Auseinandersetzung mit dem reinen Muster erahnt man die Natur als Vorbild für viele der Ornamente, aber bei längerer Betrachtung zerfällt alles in Einzelteile, nur die Linien bleiben übrig.\n\nDer Gebrauch des Ornamentes ist in der Menschheitsgeschichte sehr alt. Es kommt in allen historischen Epochen und Religionen vor und steht somit über den engen Grenzen der Menschen. Katharina Krenkel formuliert in ihren Arbeiten die Universalität dieser Bildersprache.\n\n\n\nDer Katalog zur Ausstellung erscheint am 21. Mai 2022.
URL;VALUE=URI:
SUMMARY:Katharina Krenkel „Ornament – Natur von der Rolle“
DTSTART:20220508T080000
END:VEVENT
END:VCALENDAR