BEGIN:VCALENDAR
VERSION:2.0
PRODID:-//hacksw/handcal//NONSGML v1.0//EN
CALSCALE:GREGORIAN
BEGIN:VEVENT
DTEND:20211023T150000
UID:69ea3b258ae6c
DTSTAMP:20260423T173045
LOCATION:Cromforder Allee 24\, 40878 Ratingen
DESCRIPTION:Im Rahmen des Kulturrucksacks findet am 23. Oktober 2021 von 11-15 Uhr der Kreativworkshop „Tier-Geschichten zeichnen. Das Fabelwesen Mantikor und der Hohe Rat der Tiere“ im LVR-Industriemuseum Textilfabrik Cromford statt. Er wird am 24. Oktober 2021 ebenfalls von 11-15 Uhr, wiederholt. Beide Workshops richten sich an 10- bis 14-Jährige und sind kostenlos. \n\nAusgangspunkt für den Workshop ist ein Rundgang durch die Sonderausstellung „Modische Raubzüge“. Hier lernen die Kinder mithilfe der Rätsel-App das Fabelwesen Mantikor kennen. Mantikor hat den Hohen Rat der Tiere einberufen. Die Tiere fühlen sich seit langer Zeit von den Menschen bedroht, die sich mit ihren Federn und Fellen schmücken möchten. Wie können die Tiere sich schützen? \nIm Workshop entwickeln die Kinder ihre eigenen Geschichten zu den Tieren in der Ausstellung und setzen sie zeichnerisch um. Unterstützung bekommen sie dabei von dem Illustrator Karl-Phillip Gröne.\n\nAnmeldung für den 23. oder 24. Oktober 2021:\ntelefonisch unter kulturinfo rheinland, Telefon 02234-9921-555, \nper Email: info@kulturinfo-rheinland.de \n\nEine Anmeldung vorab ist notwendig. Es gelten die für Kinder in dem Alter vorgeschriebenen Schutz- und Hygienebestimmungen. Die Kinder müssen außerdem einen 3G-Nachweis vorlegen!  \n
URL;VALUE=URI:
SUMMARY:Tier-Geschichten zeichnen. Das Fabelwesen Mantikor und der Hohe Rat der Tiere
DTSTART:20211023T110000
END:VEVENT
END:VCALENDAR