BEGIN:VCALENDAR
VERSION:2.0
PRODID:-//hacksw/handcal//NONSGML v1.0//EN
CALSCALE:GREGORIAN
BEGIN:VEVENT
DTEND:20210926T180000
UID:69ed1c9a53124
DTSTAMP:20260425T215714
LOCATION:Benrather Str. 32 a\, 40721 Hilden
DESCRIPTION:1961 ernennt der Künstler Yves Klein Charles Wilp zum „Prince of Space“ und überlässt ihm kurz vor seinem Tod symbolisch 777777 Kubikmeter endlosen sensibilisierten Raum. Zwei Jahre zuvor erschien die auf der Homepage des Museums of Modern Art (MoMA) gelistete Langspielplatte „Tanz der Leere“ von Yves Klein und CharlesWilp. Auf ihr ist lediglich das Kratzen der Saphir-Nadel beim Abspielen zu hören; sie verkaufte sich mehr als 20.000 Mal. Diese LP knüpft an Kleins visuelle Werke und seine Überlegungen zur Leere an, die Wilp fotografisch dokumentierte. Musik hat für Wilp wie auch für den Astronauten Ulf Merbold Parallelen zur Raumfahrt, Musik sei schon immer die schwereloste Kunst überhaupt gewesen, resümierte Charles Wilp.\n\nDer Künstler, der sich den Namen „ARTronaut“ gab, nahm an mehreren Parabelflügen teil. Die Schwerelosigkeit war für ihn nach eigenem Bekunden die Triebkraft der Kreativität. Als erster Künstler ließ er 1986 eigene Werke, die sogenannten „Space Sculptures“, mit ins All reisen.
URL;VALUE=URI:
SUMMARY:Charles Wilp. Into Space
DTSTART:20210613T080000
END:VEVENT
END:VCALENDAR