BEGIN:VCALENDAR
VERSION:2.0
PRODID:-//hacksw/handcal//NONSGML v1.0//EN
CALSCALE:GREGORIAN
BEGIN:VEVENT
DTEND:20200920T160000
UID:69ea7852a0ca1
DTSTAMP:20260423T215146
LOCATION:Konrad-Adenauer-Platz 8\, 51465 Bergisch Gladbach
DESCRIPTION:mit Sabine Elsa Müller\n\nAuf den ersten Blick könnten sie kaum gegensätzlicher sein, die beiden großen Arbeiten von Reiner Ruthenbeck und Jan J. Schoonhoven: Auf der einen Seite eine bis zum Äußersten reduzierte Geste - plastisches Volumen durch einfaches Zerknüllen vieler Blätter Papier entsehen lassen - auf der anderen Seite ein mit großem handwerklichen Aufwand hergestelltes Raster, das scheinbar die Schönheit in der Wiederholung des immer Gleichen sucht. Chaos und Ordnung. Aber ist es wirklich so einfach? Die genauere Betrachtung lässt womöglich die eindeutige Unterscheidung dieser beiden Kategorien ins Wanken geraten.\n\nIm Mittelpunkt des Formates "Dialog mit dem Original" steht die intensive gemeinsame Betrachtung eines ausgewählten Kunstwerkes. Ergänzend zu der breiten Auffächerung einer künstlerischen Position in der Ausstellung soll im Dialog mit den Teilnehmer*innen anhand eines einzelnen Werkes eine intensive Betrachtung in der Tiefe angeregt werden.\n\nDie Teilnahmegebühr ist im Eintritt enthalten.\n\nDie Teilnehmerzahl ist begrenzt, daher ist eine Anmeldung unbedingt zu empfehlen.\nEs gelten die obligatorischen Hygiene- und Schutzmaßnahmen (Maskenpflicht und Mindestabstand).\n
URL;VALUE=URI:
SUMMARY:Dialog mit dem Original: "Weißer Papierhaufen" von Reiner Ruthenbeck in Gegenüberstellung zu "Rechtecke im Plan" von Jan J. Schoonhoven
DTSTART:20200920T150000
END:VEVENT
END:VCALENDAR