BEGIN:VCALENDAR
VERSION:2.0
PRODID:-//hacksw/handcal//NONSGML v1.0//EN
CALSCALE:GREGORIAN
BEGIN:VEVENT
DTEND:20201011T153000
UID:69e52d9c47a47
DTSTAMP:20260419T213140
LOCATION:Berliner Str. 10a\, 46117 Oberhausen
DESCRIPTION:Bei einem moderierten Freiluft-Spaziergang lernen Sie die älteste Arbeitersiedlung des Ruhrgebiets kennen. Seit Ihrer Gründung durch die Hüttengewerkschaft Jacobi, Haniel und Huyssen im Jahr 1846 fanden zahlreiche Menschen, die in den goldenen Zeiten der Ruhrindustrie in Scharen ins Revier strömten, hier ein Zuhause. Als die Siedlung abgerissen werden sollte, wehrten sich die Bewohnerinnen und Bewohner in den 1970ern mit einer vielbeachteten Aktion und erreichten, dass sie unter Denkmalschutz gestellt wurde. Die wechselvolle Geschichte der Siedlung, der Kampf gegen den Abriss und von Alltag und Leben in der ‚Kolonie’ stehen im Mittelpunkt des Freiluft-Spaziergangs.\n\nLeider ist derzeit keine Besichtigung der Innenräume des Museums Eisenheim möglich.\n\nPreis: 5 € pro Person (Erwachsene und Kinder) | Gruppen (max. 9 Personen): 55 €\n\nAnmeldung erforderlich bei kulturinfo rheinland unter Tel. 02234 9921555 oder per Mail an info@kulturinfo-rheinland.de.\n
URL;VALUE=URI:
SUMMARY:Freiluft-Führung durch die erste Arbeitersiedlung im Ruhrgebiet
DTSTART:20201011T143000
END:VEVENT
END:VCALENDAR