BEGIN:VCALENDAR
VERSION:2.0
PRODID:-//hacksw/handcal//NONSGML v1.0//EN
CALSCALE:GREGORIAN
BEGIN:VEVENT
DTEND:20210531T180000
UID:69eaaa771fb3f
DTSTAMP:20260424T012543
LOCATION:Gelsenkirchener Str. 181\, 45309 Essen
DESCRIPTION:Die Sonderausstellung „Milestones in Contemporary Design 2020–2021“ präsentiert die 76 besten Produkte des Jahres 2020 – die derzeitigen Meilensteine im internationalen Produktdesign. Darunter findet sich etwa der Honda e, ein kompaktes Elektroauto, das für die Designexperten der Jury des Red Dot Awards jedoch zu den ganz Großen im Jahr 2020 zählt, da sowohl Design als auch technologische Ausstattung wegweisend sind. Zu den Meilensteinen gehören auch das Apple Pro Display XDR, dessen Rückansicht mit einem innovativen Gittermuster überrascht, das die Funktionalität verbessert, oder die E-Bikes „VanMoof S3 und X3“, die nicht nur leicht zu fahren sind, sondern mit einer Matrixanzeige im oberen Rahmen und weiteren Funktionen die Nutzerfreundlichkeit zusätzlich erhöhen. Die Ausstellung geht darüber hinaus der Frage nach, welche Eigenschaften ein Produkt haben muss, um höchste Designqualität zu erlangen. 
URL;VALUE=URI:
SUMMARY:„Milestones in Contemporary Design 2020–2021” – die besten Produkte des Jahres
DTSTART:20200623T080000
END:VEVENT
END:VCALENDAR