BEGIN:VCALENDAR
VERSION:2.0
PRODID:-//hacksw/handcal//NONSGML v1.0//EN
CALSCALE:GREGORIAN
BEGIN:VEVENT
DTEND:20200913T180000
UID:69e4f748ad22a
DTSTAMP:20260419T173952
LOCATION:Kastellstraße 9\, 47574 Goch
DESCRIPTION:August Deusser war Maler und Kulturpolitiker. 1870 in Köln geboren, blieb er dem Rheinland bis zu seinem Tod in Konstanz im Jahr 1942 eng verbunden. Er setzte sich bereits sehr früh für die Moderne im Rheinland ein. Die Modernen, das waren u.a. die französischen Fauves um Henri Matisse, aber auch die spektakulären Werke Paul Cézannes oder die deutschen Expressionisten.\nDeussers Einsatz für diese Moderne und die damit verbundene Abkehr von der akademischen Malerei führten 1908, maßgeblich von Deusser initiiert, zur Gründung des Sonderbundes. Bis 1911 fanden die jährlichen Ausstellungen der Gruppe in Düsseldorf statt und erregten aufgrund der neuartigen Präsentation und durch den Einbezug französischer Avantgardekünstler großes Aufsehen.\nDer Maler blieb tonangebend innerhalb dieser Bewegung. Im sog. „Vinnen-Streit“ positionierte sich Deusser klar und unmissverständlich für die junge französische Malerei: „Die Jugend aber wird siegen“, so Deusser in seinem Beitrag für die historische Streitschrift. \nSeine Themen findet der Künstler in den rheinischen Landschaften vom Niederrhein bis nach Köln. In seinen Stadtbildern sucht er die charakteristischen Silhouetten, wie beispielsweise und sehr beliebt den Kölner Dom. Besonders hatten es ihm die monumentalen Eisenbahnviadukte angetan. Mächtig setzte er diese rötlich schimmernden Architekturen in Szene. Sie gehören sicherlich zu den eindrucksvollsten Gemälden von August Deusser. \nAugust Deussers Leben führte ihn auch für einige Jahre an den Niederrhein. An der Düsseldorfer Akademie wird er schließlich Professor für Historienmalerei, die Lehrtätigkeit musste er 1924 krankheitsbedingt aufgeben. \n\nMit ca. 100 Werken – Gemälden und Zeichnungen - zeigen wir dieses, im Rheinland nahezu vergessene Werk zum ersten Mal gemeinsam mit dem Museum Konstanz sowie der Antonie Deusser Stiftung (Zürich).\n
URL;VALUE=URI:
SUMMARY:August Deusser. Kunst für immer - und immer nur Kunst!
DTSTART:20200512T080000
END:VEVENT
END:VCALENDAR