BEGIN:VCALENDAR
VERSION:2.0
PRODID:-//hacksw/handcal//NONSGML v1.0//EN
CALSCALE:GREGORIAN
BEGIN:VEVENT
DTEND:20200126T180000
UID:69e913c07e559
DTSTAMP:20260422T203024
LOCATION:Cockerillstr. 90\, 52222 Stolberg
DESCRIPTION:Die Ausstellung, die in Kooperation mit dem Deutschen Messingmuseum (in Gründung) stattfindet, entführt den Besucher in die glänzende und facettenreiche Welt des "kleinen Goldes". Kunstvolle Gerätschaften aus Messing fanden sich sowohl in herrschaftlichen wie bürgerlichen Haushalten. In ihnen verbinden sich in beeindruckender Weise repräsentativer Anspruch, filigrane Handwerkskunst und Gebrauchszweck. Zugleich spiegeln sie fünfhundert Jahre Kunst-, Kultur- und Sozialgeschichte. Dabei reicht das Spektrum von Schenk- und Küchengeräten über Dosen und Behälter bis hin zu den unterschiedlichsten Wärmegerätschaften.
URL;VALUE=URI:
SUMMARY:Es wärmt die Form\, der Stoff\, das Licht
DTSTART:20191124T080000
END:VEVENT
END:VCALENDAR