BEGIN:VCALENDAR
VERSION:2.0
PRODID:-//hacksw/handcal//NONSGML v1.0//EN
CALSCALE:GREGORIAN
BEGIN:VEVENT
DTEND:20200329T180000
UID:69eb0cbe696dc
DTSTAMP:20260424T082502
LOCATION:Carl-Koenen-Straße 25b\, 53881 Euskirchen
DESCRIPTION:Heute gibt es in der Dreiländerregion rund um Aachen kaum noch Tuchproduktion. Doch zahlreiche Bauten, Denkmäler, Kulturlandschaften und Museen dokumentieren noch deren Geschichte, die diese Region zwi-schen Verviers, Aachen und Euskirchen zutiefst geprägt hat. \n\nDer Fotograf Willi Filz hat die herausragenden Zeugnisse der Wolltuchgeschichte der letzten 300 Jahre in Euskirchen, Aachen, Eupen, Monschau und Verviers liebevoll ins Licht gesetzt. Auf der Basis dieser Fotos hat die Arbeitsgruppe Wollroute Euregio Maas-Rhein eine Ausstellung entwickelt, die die architektonischen und musealen Schätze der großen Ära der Wolle in der Region in faszinierenden Bildern vorstellt. Die Präsentation bietet mit 42 Fotomotiven aus drei Ländern und vier Regionen und Exponaten zur Tuchmachergeschichte einen anregenden Einblick in die vergangene Welt der Wolle. Bereits seit dem 18. Jahrhundert gab es in der Region, die heute als Euregio Maas-Rhein zusammenarbeitet, eng verknüpfte wirtschaftliche Aktivitäten mit globalen Ausmaßen. Das Know-how, das Kapital, die Tuchmacher und die exklusiven Tuche kannten schon damals keine Grenzen. \n\nDie Foto-Dokumentation und die Ausstellung wurden gefördert durch das Ministerium für Heimat, Kommuna-les, Bau und Gleichstellung des Landes Nordrhein-Westfalen und die Provinz Lüttich.\n\nDer Eintritt ist frei\n\n
URL;VALUE=URI:
SUMMARY:Grenzenlose Welt der Wolle - Fotografien zum Kulturerbe der Tuchindustrie zwischen Euskirchen\, Aachen und Verviers
DTSTART:20200126T080000
END:VEVENT
END:VCALENDAR