BEGIN:VCALENDAR
VERSION:2.0
PRODID:-//hacksw/handcal//NONSGML v1.0//EN
CALSCALE:GREGORIAN
BEGIN:VEVENT
DTEND:20191123T140000
UID:69ecaf349f6f3
DTSTAMP:20260425T141028
LOCATION:Friedrich-Wilhelm-Str. 40\, 47051 Duisburg
DESCRIPTION:mit Hiltrud Lewe \n\nIn der Vorweihnachtszeit bietet das Lehmbruck Museum an den Offenen Samstagen regelmäßig spaßige Workshops für Kinder von 6 bis 12 Jahren an. \n\nZum Auftakt lautet das Motto "Pappcycling – Fantasievolle Figuren aus Zeitungspapier und Klebeband". \n\nAus Alt mach Neu! Dass alte Zeitungen viel zu schade zum Wegschmeißen sind, stellt Hiltrud Lewe am ersten Offenen Samstag des Jahres unter Beweis: Zusammen mit interessierten Kids wird die Krefelder Künstlerin altes Zeitungspapier als künstlerisches Material verwenden und ihm dabei neues Leben einhauchen – der Fantasie sind dabei keine Grenzen gesetzt. \n\nDie Kosten betragen 10 € (erm. 5 €) pro Teilnehmer. Anmeldung erforderlich (telefonisch unter 0203 283 2195 oder per E-Mail an kunstvermittlung@lehmbruckmuseum.de)!\n
URL;VALUE=URI:
SUMMARY:Offener Samstag: Pappcycling – Fantasievolle Figuren aus Zeitungspapier 
DTSTART:20191123T110000
END:VEVENT
END:VCALENDAR