BEGIN:VCALENDAR
VERSION:2.0
PRODID:-//hacksw/handcal//NONSGML v1.0//EN
CALSCALE:GREGORIAN
BEGIN:VEVENT
DTEND:20191120T193000
UID:69e58bc244bf1
DTSTAMP:20260420T041322
LOCATION:Turmhof 8\, 42103 Wuppertal
DESCRIPTION:Einführung zu Oskar Schlemmer Dr. Beate Eickhoff\n\nAuszüge aus George Orwells „1984“\nEs liest Bernt Hahn\n\nHans-Werner Henze, Sonatina für Flöte und Klavier\nDirk Peppel, Flöte; Jee-Young Phillips, Klavier\nModeration Anne Linsel\n\nWo? In der City-Kirche\n\nKartenvorverkauf: ab Donnerstag, 24. Oktober, 16.30 Uhr, an der Museumskasse; Eintritt 10 €\n\n"Kunsthochdrei" ist eine Veranstaltungsreihe des Kunst- und Museumsvereins in Kooperation mit dem Von der Heydt-Museum, dem Literaturhaus e.V. und der Hochschule für Musik und Tanz Köln/Wuppertal.\n\n	 \n \n\n
URL;VALUE=URI:
SUMMARY:Kunsthochdrei: George Orwell
DTSTART:20191120T183000
END:VEVENT
END:VCALENDAR