BEGIN:VCALENDAR
VERSION:2.0
PRODID:-//hacksw/handcal//NONSGML v1.0//EN
CALSCALE:GREGORIAN
BEGIN:VEVENT
DTEND:20191130T170000
UID:69e540865fe49
DTSTAMP:20260419T225222
LOCATION:Kollwitz Forum\, 50667 Köln
DESCRIPTION:Samstagswerkstatt für Kinder ab 6 Jahren\n\nAuf den Bildern und Photographien der "Berliner Realisten" gibt es viel zu entdecken: Wir flanieren entlang der Prachtstraßen und über Jahrmärkte, ziehen mit den Arbeitern durch schäbige Seitengassen und wagen uns in die engen Berliner Hinterhöfe. Auf den meisten dieser Straßenszenen wimmelt es nur so von Menschen. Wir schauen genau hin und lassen uns von ihnen inspirieren. Dann wird geschnippelt, geklebt, gezeichnet und gemalt – bis wir am Ende unser eigenes spannendes Wimmelbild mit nach Hause nehmen.\n\nBegrenzte Teilnehmerzahl! Anmeldung bis 2 Tage vor Beginn unter 0221 227-2602 oder museum@kollwitz.de\n\nKosten: 5 € (inkl. Material)\n
URL;VALUE=URI:
SUMMARY:Berlin\, Berlin – Großstadtgewimmel 
DTSTART:20191130T140000
END:VEVENT
END:VCALENDAR