BEGIN:VCALENDAR
VERSION:2.0
PRODID:-//hacksw/handcal//NONSGML v1.0//EN
CALSCALE:GREGORIAN
BEGIN:VEVENT
DTEND:20200112T180000
UID:69e70b55e7589
DTSTAMP:20260421T072957
LOCATION:Museumsplatz 1\, 45128 Essen
DESCRIPTION:Seit Ende der 1960er Jahre gehört der 1940 in Tokio geborene Shin Matsunaga zu den international bedeutendsten Grafikdesignern Japans. Er verbindet traditionelle japanische Grafik und Zeichnung mit westlichen Designentwicklungen zu einer kreativen Formenwelt, ohne diese jedoch zu verschmelzen.
URL;VALUE=URI:
SUMMARY:Shin Matsunaga. Made in Japan – Plakate
DTSTART:20191011T080000
END:VEVENT
END:VCALENDAR