BEGIN:VCALENDAR
VERSION:2.0
PRODID:-//hacksw/handcal//NONSGML v1.0//EN
CALSCALE:GREGORIAN
BEGIN:VEVENT
DTEND:20200112T180000
UID:69e75fe9a63aa
DTSTAMP:20260421T133049
LOCATION:Schloßstr. 1\, 41541 Dormagen-Zons
DESCRIPTION:Es wird schrill, außergewöhnlich und vor allem bunt: Rund 200 verrückte Teekannen aus der Sammlung der Muse und Kunstmanagerin Elke Koska zeigen ungewöhnliche Designs abseits traditioneller Formen.\n\nOb Kohlkopf, Menschen oder Tiere – die Form der Kanne wird auf skurile Art und Weise auf die Spitze getrieben. Jede der besonderen Kannen besitzt ganz klassisch Tülle, Henkel und Deckel und doch gibt es weitaus mehr zu entdecken.\n\nDie Teekanne als Behälter für das warme Getränk ist Teil der Lebens- und Tischkultur. Zahlreiche Künstler haben sich mit der Gestaltung, Form und Funktion dieses Alltagsgegenstandes beschäftigt und die Kanne somit zum Kunstobjekt erhoben.\n\nIm Gegensatz zur traditionellen bauchigen Form zeigen die ausgestellten Kannen seltsame Gestalten, bekannte Persönlichkeiten, Toilettensitze oder wahre Märchenschlösser.\n\nDie phantasievollen und exzentrischen Designs regen zum Lachen und Wundern an. Sie geben auf ironische Art einen Einblick in unsere Gesellschaft abseits des sogenannten "guten Geschmacks".
URL;VALUE=URI:
SUMMARY:Noch alle Teekannen im Schrank? Außergewöhnliche Teekannen aus der Sammlung Elke Koska
DTSTART:20190908T080000
END:VEVENT
END:VCALENDAR