BEGIN:VCALENDAR
VERSION:2.0
PRODID:-//hacksw/handcal//NONSGML v1.0//EN
CALSCALE:GREGORIAN
BEGIN:VEVENT
DTEND:20200830T180000
UID:69e744253a229
DTSTAMP:20260421T113221
LOCATION:Güntherstraße 13-15\, 47051 Duisburg-Dellviertel
DESCRIPTION:Anknüpfend an die Sammlung DKM werden von November bis April 2020 im Neubau Fotografien von Klaus Kinold (*1939 in Essen) zu einem Hauptwerk des venezianischen Architekten Carlo Scarpa (1906 1978), Tomba Brion (Grabstätte der Familie Brion) gezeigt. Das Ausstellungsprojekt geht auf eine von Kinold konzipierte und mit Fotografien aus seinem umfangreichen Bildarchiv ausgestattete Architektur-Buchreihe im Hirmer-Verlag zurück. Es ist angedacht, in einer Ausstellungsfolge das durch Kinold dokumentierte Werk weiterer Architekten wie Hans Döllgast (1891–1974 in München) und Rudolf Schwarz (1897–1961 in Köln) im Museum DKM vorzustellen.
URL;VALUE=URI:
SUMMARY:Architektur mit den Augen des Fotografen. Klaus Kinold
DTSTART:20191122T080000
END:VEVENT
END:VCALENDAR