BEGIN:VCALENDAR
VERSION:2.0
PRODID:-//hacksw/handcal//NONSGML v1.0//EN
CALSCALE:GREGORIAN
BEGIN:VEVENT
DTEND:20180310T163000
UID:69e6e64adfd8f
DTSTAMP:20260421T045154
LOCATION:Bonnstr. 12\, 50226 Frechen
DESCRIPTION:Bemale eine eigene Fliese mit deinem Kunstmotiv. Gerne kannst du dir auch eine Vorlag mitbringen. \n\nUhrzeit: 15 – 16.30 Uhr\nKursgebühr: 15,00 Euro für Kinder, 17,00 Euro für Erwachsene (inkl. einer Fliese)\n\n\nEine Anmeldung ist unter info@keramion.de oder 02234-697690 erforderlich und verbindlich! Bitte an ein Getränk für zwischendurch denken. Die Veranstaltung findet ab einer Teilnehmerzahl von mindestens sechs Personen statt.
URL;VALUE=URI:
SUMMARY:Berühmte Künstler: Monet\, van Gogh\, da Vinci und auch Du gehörst dazu!
DTSTART:20180310T150000
END:VEVENT
END:VCALENDAR